BEGIN:VCALENDAR
VERSION:2.0
PRODID:-//Leadership Mapping - ECPv6.15.20//NONSGML v1.0//EN
CALSCALE:GREGORIAN
METHOD:PUBLISH
X-ORIGINAL-URL:https://leadershipmapping.com
X-WR-CALDESC:Events for Leadership Mapping
REFRESH-INTERVAL;VALUE=DURATION:PT1H
X-Robots-Tag:noindex
X-PUBLISHED-TTL:PT1H
BEGIN:VTIMEZONE
TZID:UTC
BEGIN:STANDARD
TZOFFSETFROM:+0000
TZOFFSETTO:+0000
TZNAME:UTC
DTSTART:20200101T000000
END:STANDARD
END:VTIMEZONE
BEGIN:VEVENT
DTSTART;VALUE=DATE:20210101
DTEND;VALUE=DATE:20500102
DTSTAMP:20260423T231259
CREATED:20211009T025119Z
LAST-MODIFIED:20211009T025123Z
UID:200-1609459200-2524694399@leadershipmapping.com
SUMMARY:Leadership Mapping Introduction
DESCRIPTION:“Chart your Course\, Change your World!” \nIn this introductory session you will ask yourself: \n\nWould you like to have more control and influence in your life and business?\n“What Matters Most?”\n\nWe will explain what Leadership Mapping is about and the two key components that make Leadership Mapping so impactful in both the individual’s life as well as any organization. \nFIRST you will learn about BlueMAPs\, and SECOND you will learn how to Map Your Gap. \nThere is a short segment that is a BIO of the background of Stan Broesder\, Master Guide at your Crossroads of Change. \nFinally\, Next steps! This is where you can learn more about Leadership Mapping. \nWatch Event Replay Here: \n\n  \nSign up for your Complementary Action Steps to be sent your inbox! \n\n	Notice: JavaScript is required for this content.\nNo Fields Found.
URL:https://leadershipmapping.com/event/leadership-mapping-introduction/
LOCATION:Online Event\, NC\, United States
CATEGORIES:Leadership Mapping
ATTACH;FMTTYPE=image/jpeg:https://leadershipmapping.com/wp-content/uploads/2021/10/Leadership-Event-Introduction-Session.jpg
ORGANIZER;CN="Stan Broesder":MAILTO:Stan@LeadershipMapping.com
END:VEVENT
BEGIN:VEVENT
DTSTART;VALUE=DATE:20210101
DTEND;VALUE=DATE:20500102
DTSTAMP:20260423T231259
CREATED:20211009T025908Z
LAST-MODIFIED:20211009T025908Z
UID:205-1609459200-2524694399@leadershipmapping.com
SUMMARY:Creating Your Own Incredible Journey
DESCRIPTION:This is a three session workshop: Date To Be Determined \nYou will receive the foundations and applications of Leadership Mapping. Starting with how Leadership Mapping can help you personally\, whether a home maker or a home builder to a corporate executive or a front-line worker. \nOnce you develop your own personal map\, then you will walk through the “Map Your Gap” process for leadership. This will focus on the skills of influencing others. When you can help enough people get what they want then you will be able to get what you want. Helping others to be successful is critical to your own success. \nThen you will advance your map application to an organizational structure of any kind that you may be a part of. It doesn’t matter if it is a corporate enterprise or a non-profit charity or church. Where there are levels of authority and delegation you will greatly improve getting positive results. \nYou will have questions that are unique to you. This workshop will allow you the opportunity to ask specific questions and get pointed answers to move you forward on this journey. \nSign up today for out next Three Session Workshop: “Creating Your Own Incredible Journey” \n“You must sign up!”   \n“Interactive\, group size is limited”  \nWe will email you with the meeting information before the event. \n  \n\n	Notice: JavaScript is required for this content.\nNo Fields Found.
URL:https://leadershipmapping.com/event/creating-your-own-incredible-journey/
LOCATION:Online Event\, NC\, United States
CATEGORIES:Leadership Mapping
ATTACH;FMTTYPE=image/jpeg:https://leadershipmapping.com/wp-content/uploads/2021/10/Leadership-Event-Creating-Your-Own-Incredible-Journey.jpg
ORGANIZER;CN="Stan Broesder":MAILTO:Stan@LeadershipMapping.com
END:VEVENT
END:VCALENDAR